Workbook

Sheet Groups 2026
I2: FUTBOLO TURNYRAS, SKIRTAS ANGELŲ SARGŲ (POLICIJOS) DIENAI PAMINĖTI
I4: A Grupė
B5: Komanda | C5: Rungtynių rezultatai | M5: Taškai | N5: Įmuškti įvarčiai | O5: Praleista įvarčiai | P5: Įvarčių (+-) | Q5: Vieta
C6: 1 | E6: 2 | G6: 3 | I6: 4 | K6: 5
A7: 1 | B7: Kauno apskr. VPK | E7: 1 | F7: 1 | G7: 2 | H7: 0 | I7: 4 | J7: 0 | K7: 1 | L7: 2 | M7: =E8+G8+I8+K8 -> 7 | N7: =E7+G7+K7+I7 -> 8 | O7: =F7+H7+J7+L7 -> 3 | P7: =N7-O7 -> 5 | Q7: 3 | T7: PUSFINALIS | U7: FINALAI | V7: PUSFINALIS
E8: 1 | G8: 3 | I8: 3 | K8: 0
A9: 2 | B9: Vilniaus apskr. VPK | C9: 1 | D9: 1 | G9: 3 | H9: 1 | I9: 3 | J9: 0 | K9: 1 | L9: 1 | M9: =C10+G10+I10+K10 -> 8 | N9: =C9+G9+K9+I9 -> 8 | O9: =D9+H9+J9+L9 -> 3 | P9: =N9-O9 -> 5 | Q9: 2 | U9: 1st place game
C10: 1 | G10: 3 | I10: 3 | K10: 1 | U10: Marijampolės apskr. VPK | V10: 6
A11: 3 | B11: Alytaus apskr. VPK | C11: 0 | D11: 2 | E11: 1 | F11: 3 | I11: 3 | J11: 1 | K11: 0 | L11: 1 | M11: =C12+E12+I12+K12 -> 3 | N11: =C11+E11+K11+I11 -> 4 | O11: =D11+F11+J11+L11 -> 7 | P11: =N11-O11 -> -3 | Q11: 4 | U11: Klaipėdos apskr. VPK | V11: 5
C12: 0 | E12: 0 | I12: 3 | K12: 0 | S12: 2 | T12: Marijampolės apskr. VPK | V12: Klaipėdos apskr.VPK | W12: 2
A13: 4 | B13: Tauragės apskr. VPK | C13: 0 | D13: 4 | E13: 0 | F13: 3 | G13: 1 | H13: 3 | K13: 0 | L13: 2 | M13: =C14+E14+G14+K14 -> 0 | N13: =C13+E13+G13+K13 -> 1 | O13: =D13+F13+H13+L13 -> 12 | P13: =N13-O13 -> -11 | Q13: 5 | S13: 0 | T13: Šiaulių apskr. VPK | U13: 3rd place game | V13: Vilniaus apskr. VPK | W13: 0
C14: 0 | E14: 0 | G14: 0 | K14: 0 | U14: Šiaulių apskr. VPK | V14: 1
A15: 5 | B15: Marijampolės apskr. VPK | C15: 2 | D15: 1 | E15: 1 | F15: 1 | G15: 1 | H15: 0 | I15: 2 | J15: 0 | M15: =C16+E16+G16+I16 -> 10 | N15: =C15+E15+G15+I15 -> 6 | O15: =D15+F15+H15+J15 -> 2 | P15: =N15-O15 -> 4 | Q15: 1 | U15: Vilniaus apskr. VPK | V15: 6
C16: 3 | E16: 1 | G16: 3 | I16: 3
I20: B grupė
B21: Komanda | C21: Rungtynių rezultatai | M21: Taškai | N21: Įmuškti įvarčiai | O21: Praleista įvarčiai | P21: Įvarčių (+-) | Q21: Vieta
C22: 1 | E22: 2 | G22: 3 | I22: 4 | K22: 5
A23: 1 | B23: Klaipėdos apskr. VPK | E23: 0 | F23: 2 | G23: 2 | H23: 0 | I23: 4 | J23: 1 | K23: 2 | L23: 1 | M23: =E24+G24+I24+K24 -> 9 | N23: =E23+G23+I23+K23 -> 8 | O23: =F23+H23+J23+L23 -> 4 | P23: =N23-O23 -> 4 | Q23: 1
E24: 0 | G24: 3 | I24: 3 | K24: 3
A25: 2 | B25: Šiaulių apskr. VPK | C25: 2 | D25: 0 | G25: 2 | H25: 2 | I25: 0 | J25: 0 | K25: 8 | L25: 0 | M25: =C26+G26+I26+K26 -> 8 | N25: =C25+G25+I25+K25 -> 12 | O25: =D25+H25+J25+L25 -> 2 | P25: =N25-O25 -> 10 | Q25: 2
C26: 3 | G26: 1 | I26: 1 | K26: 3
A27: 3 | B27: Utenos apskr. VPK | C27: 0 | D27: 2 | E27: 2 | F27: 2 | I27: 2 | J27: 2 | K27: 5 | L27: 1 | M27: =C28+E28+I28+K28 -> 5 | N27: =C27+E27+I27+K27 -> 9 | O27: =D27+F27+J27+L27 -> 7 | P27: =N27-O27 -> 2 | Q27: 3
C28: 0 | E28: 1 | I28: 1 | K28: 3
A29: 4 | B29: Lietuvos kriminalinės policijos biuras | C29: 1 | D29: 4 | E29: 0 | F29: 0 | G29: 2 | H29: 2 | K29: 2 | L29: 0 | M29: =C30+E30+G30+K30 -> 5 | N29: =C29+E29+G29+K29 -> 5 | O29: =D29+F29+H29+L29 -> 6 | P29: =N29-O29 -> -1 | Q29: 4
C30: 0 | E30: 1 | G30: 1 | K30: 3
A31: 5 | B31: Kriminalistinių tyrimų valdyba | C31: 1 | D31: 2 | E31: 0 | F31: 8 | G31: 1 | H31: 5 | I31: 0 | J31: 2 | M31: =C32+E32+G32+I32 -> 0 | N31: =C31+E31+G31+I31 -> 2 | O31: =D31+F31+H31+J31 -> 17 | P31: =N31-O31 -> -15 | Q31: 5
C32: 0 | E32: 0 | G32: 0 | I32: 0

Sheet „Groups 2026“ kopija
I2: KREPŠINIO TURNYRAS, SKIRTAS ANGELŲ SARGŲ (POLICIJOS) DIENAI PAMINĖTI
I4: A Grupė (group)
B5: Komanda (team) | C5: Rungtynių rezultatai (game score) | M5: Taškai (points) | N5: Įmesta tšk. (points score) | O5: Praleista tšk. (points allowed) | P5: Taškų (points) (+-) | Q5: Vieta (place)
C6: 1 | E6: 2 | G6: 3 | I6: 4 | K6: 5
A7: 1 | B7: Tauragės apskr. VPK | M7: =E8+G8+I8+K8 -> 0 | N7: =E7+G7+K7+I7 -> 0 | O7: =F7+H7+J7+L7 -> 0 | P7: =N7-O7 -> 0 | T7: PUSFINALIS (Semifinal) | U7: FINALAI (Finals) | V7: PUSFINALIS (Semifinal)
A9: 2 | B9: Vilniaus apskr. VPK | M9: =C10+G10+I10+K10 -> 0 | N9: =C9+G9+K9+I9 -> 0 | O9: =D9+H9+J9+L9 -> 0 | P9: =N9-O9 -> 0 | U9: 1st place game
U10: WA1/B2
A11: 3 | B11: Kauno apsrk. VPK | M11: =C12+E12+I12+K12 -> 0 | N11: =C11+E11+K11+I11 -> 0 | O11: =D11+F11+J11+L11 -> 0 | P11: =N11-O11 -> 0 | U11: WB1/A2
T12: A1 | V12: B1
A13: 4 | B13: PD KTV | M13: =C14+E14+G14+K14 -> 0 | N13: =C13+E13+G13+K13 -> 0 | O13: =D13+F13+H13+L13 -> 0 | P13: =N13-O13 -> 0 | T13: B2 | U13: 3rd place game | V13: A2
U14: LA1/B2
A15: 5 | B15: Viešojo saugumo tarnyba | M15: =C16+E16+G16+I16 -> 0 | N15: =C15+E15+G15+I15 -> 0 | O15: =D15+F15+H15+J15 -> 0 | P15: =N15-O15 -> 0 | U15: LB1/A2
I20: B grupė (group)
B21: Komanda (team) | C21: Rungtynių rezultatai (game score) | M21: Taškai (points) | N21: Įmesta tšk. (points score) | O21: Praleista tšk. (points allowed) | P21: Taškų (points) (+-) | Q21: Vieta (place)
C22: 1 | E22: 2 | G22: 3 | I22: 4 | K22: 5
A23: 1 | B23: Riga police | M23: =E24+G24+I24+K24 -> 0 | N23: =E23+G23+I23+K23 -> 0 | O23: =F23+H23+J23+L23 -> 0 | P23: =N23-O23 -> 0
A25: 2 | B25: Marijampolės apskr. VPK | M25: =C26+G26+I26+K26 -> 0 | N25: =C25+G25+I25+K25 -> 0 | O25: =D25+H25+J25+L25 -> 0 | P25: =N25-O25 -> 0
A27: 3 | B27: Šiaulių apsrk. VPK | M27: =C28+E28+I28+K28 -> 0 | N27: =C27+E27+I27+K27 -> 0 | O27: =D27+F27+J27+L27 -> 0 | P27: =N27-O27 -> 0
A29: 4 | B29: Panevėžio apsr. VPK | M29: =C30+E30+G30+K30 -> 0 | N29: =C29+E29+G29+K29 -> 0 | O29: =D29+F29+H29+L29 -> 0 | P29: =N29-O29 -> 0
A31: 5 | B31: Utenos apsr. VPK | M31: =C32+E32+G32+I32 -> 0 | N31: =C31+E31+G31+I31 -> 0 | O31: =D31+F31+H31+J31 -> 0 | P31: =N31-O31 -> 0

Sheet „Timetable 2026“ kopija
A1: No. | B1: Time | C1: Court | D1: Group | E1: Team 1 | F1: Team 2 | G1: Referee #1 | H1: Referee #2
A2: 1 | B2: 08.30 | C2: 1 | D2: Warm up
B3: 08.30 | C3: 2 | D3: Warm up
A4: 3 | B4: 09.00 | C4: 1 | D4: A | E4: ='Groups 2026'!B7 -> Kauno apskr. VPK | F4: ='Groups 2026'!B15 -> Marijampolės apskr. VPK
A5: 2 | B5: 09.00 | C5: 2 | D5: B | E5: ='Groups 2026'!B23 -> Klaipėdos apskr. VPK | F5: ='Groups 2026'!B31 -> Kriminalistinių tyrimų valdyba | G5: dnp
A6: 2 | B6: 09.30 | C6: 1 | D6: A | E6: ='Groups 2026'!B9 -> Vilniaus apskr. VPK | F6: ='Groups 2026'!B13 -> Tauragės apskr. VPK
A7: 3 | B7: 09.30 | C7: 2 | D7: B | E7: ='Groups 2026'!B25 -> Šiaulių apskr. VPK | F7: ='Groups 2026'!B29 -> Lietuvos kriminalinės policijos biuras
A8: 4 | B8: 10.00 | C8: 1 | D8: A | E8: ='Groups 2026'!B11 -> Alytaus apskr. VPK | F8: ='Groups 2026'!B15 -> Marijampolės apskr. VPK
A9: 4 | B9: 10.00 | C9: 2 | D9: B | E9: ='Groups 2026'!B27 -> Utenos apskr. VPK | F9: ='Groups 2026'!B31 -> Kriminalistinių tyrimų valdyba
A10: 1 | B10: 10.30 | C10: 1 | D10: Opening ceremony
A11: 5 | B11: 10.40 | C11: 1 | D11: A | E11: ='Groups 2026'!B7 -> Kauno apskr. VPK | F11: ='Groups 2026'!B13 -> Tauragės apskr. VPK
A12: 5 | B12: 10.40 | C12: 2 | D12: B | E12: ='Groups 2026'!B23 -> Klaipėdos apskr. VPK | F12: ='Groups 2026'!B29 -> Lietuvos kriminalinės policijos biuras | G12: dnp
A13: 6 | B13: 11.10 | C13: 1 | D13: A | E13: ='Groups 2026'!B9 -> Vilniaus apskr. VPK | F13: ='Groups 2026'!B15 -> Marijampolės apskr. VPK
A14: 6 | B14: 11.10 | C14: 2 | D14: B | E14: ='Groups 2026'!B25 -> Šiaulių apskr. VPK | F14: ='Groups 2026'!B31 -> Kriminalistinių tyrimų valdyba
A15: 7 | B15: 11.40 | C15: 1 | D15: A | E15: ='Groups 2026'!B7 -> Kauno apskr. VPK | F15: ='Groups 2026'!B11 -> Alytaus apskr. VPK
A16: 7 | B16: 11.40 | C16: 2 | D16: B | E16: ='Groups 2026'!B23 -> Klaipėdos apskr. VPK | F16: ='Groups 2026'!B27 -> Utenos apskr. VPK
A17: 8 | B17: 12.10 | C17: 1 | D17: A | E17: ='Groups 2026'!B13 -> Tauragės apskr. VPK | F17: ='Groups 2026'!B15 -> Marijampolės apskr. VPK
A18: 8 | B18: 12.10 | C18: 2 | D18: B | E18: ='Groups 2026'!B29 -> Lietuvos kriminalinės policijos biuras | F18: ='Groups 2026'!B31 -> Kriminalistinių tyrimų valdyba | G18: dnp
A19: 9 | B19: 12.40 | C19: 1 | D19: A | E19: ='Groups 2026'!B7 -> Kauno apskr. VPK | F19: ='Groups 2026'!B9 -> Vilniaus apskr. VPK
A20: 9 | B20: 12.40 | C20: 2 | D20: B | E20: ='Groups 2026'!B23 -> Klaipėdos apskr. VPK | F20: ='Groups 2026'!B25 -> Šiaulių apskr. VPK
A21: 10 | B21: 13.10 | C21: 1 | D21: A | E21: ='Groups 2026'!B11 -> Alytaus apskr. VPK | F21: ='Groups 2026'!B13 -> Tauragės apskr. VPK
A22: 10 | B22: 13.10 | C22: 2 | D22: B | E22: ='Groups 2026'!B27 -> Utenos apskr. VPK | F22: ='Groups 2026'!B29 -> Lietuvos kriminalinės policijos biuras
A23: 11 | B23: 13.40 | C23: 1 | D23: A | E23: ='Groups 2026'!B9 -> Vilniaus apskr. VPK | F23: ='Groups 2026'!B11 -> Alytaus apskr. VPK
A24: 11 | B24: 13.40 | C24: 2 | D24: B | E24: ='Groups 2026'!B25 -> Šiaulių apskr. VPK | F24: ='Groups 2026'!B27 -> Utenos apskr. VPK | G24: dnp
A25: 12 | B25: 14.20 | C25: 1 | D25: Semi-Final | E25: A1 | F25: B2
A26: 12 | B26: 14.20 | C26: 2 | D26: Semi-Final | E26: B1 | F26: A2
A27: 13 | B27: 14.55 | C27: 1 | D27: 3rd place game | E27: LA1/B2 | F27: LB1/A2
A28: 14 | B28: 15.30 | C28: 1 | D28: 1st place game | E28: WA1/B2 | F28: WB1/A2
A29: 15 | B29: 16.05 | C29: 1 | D29: Closing ceremony

Sheet Groups 2025
I2: KREPŠINIO TURNYRAS, SKIRTAS ANGELŲ SARGŲ (POLICIJOS) DIENAI PAMINĖTI
I4: A Grupė (group)
B5: Komanda (team) | C5: Rungtynių rezultatai (game score) | M5: Taškai (points) | N5: Įmesta tšk. (points score) | O5: Praleista tšk. (points allowed) | P5: Taškų (points) (+-) | Q5: Vieta (place)
C6: 1 | E6: 2 | G6: 3 | I6: 4 | K6: 5
A7: 1 | B7: Tauragės apskr. VPK | E7: 39 | F7: 36 | G7: 56 | H7: 35 | I7: 59 | J7: 31 | K7: 46 | L7: 27 | M7: =E8+G8+I8+K8 -> 8 | N7: =E7+G7+K7+I7 -> 200 | O7: =F7+H7+J7+L7 -> 129 | P7: =N7-O7 -> 71 | Q7: 1 | T7: PUSFINALIS (Semifinal) | U7: FINALAI (Finals) | V7: PUSFINALIS (Semifinal)
E8: 2 | G8: 2 | I8: 2 | K8: 2
A9: 2 | B9: Marijampolės apskr. VPK | C9: 36 | D9: 39 | G9: 38 | H9: 25 | I9: 38 | J9: 23 | K9: 43 | L9: 20 | M9: =C10+G10+I10+K10 -> 7 | N9: =C9+G9+K9+I9 -> 155 | O9: =D9+H9+J9+L9 -> 107 | P9: =N9-O9 -> 48 | Q9: 2 | U9: 1st place game
C10: 1 | G10: 2 | I10: 2 | K10: 2 | U10: Riga police | V10: 38
A11: 3 | B11: Šiaulių apskr. VPK | C11: 35 | D11: 56 | E11: 25 | F11: 38 | I11: 49 | J11: 21 | K11: 28 | L11: 21 | M11: =C12+E12+I12+K12 -> 6 | N11: =C11+E11+K11+I11 -> 137 | O11: =D11+F11+J11+L11 -> 136 | P11: =N11-O11 -> 1 | Q11: 3 | U11: Tauragės AVPK | V11: 52
C12: 1 | E12: 1 | I12: 2 | K12: 2 | S12: 30 | T12: Tauragės AVPK | V12: Riga police | W12: 50
A13: 4 | B13: Lietuvos policijos mokykla | C13: 31 | D13: 59 | E13: 25 | F13: 38 | G13: 21 | H13: 49 | K13: 24 | L13: 37 | M13: =C14+E14+G14+K14 -> 4 | N13: =C13+E13+G13+K13 -> 101 | O13: =D13+F13+H13+L13 -> 183 | P13: =N13-O13 -> -82 | Q13: 5 | S13: 19 | T13: Vilniaus AVPK | U13: 3rd place game | V13: Marijampolės AVPK | W13: 42
C14: 1 | E14: 1 | G14: 1 | K14: 1 | U14: Vilniaus AVPK | V14: 41
A15: 5 | B15: Alytaus apskr. VPK | C15: 27 | D15: 46 | E15: 20 | F15: 43 | G15: 21 | H15: 29 | I15: 37 | J15: 24 | M15: =C16+E16+G16+I16 -> 5 | N15: =C15+E15+G15+I15 -> 105 | O15: =D15+F15+H15+J15 -> 142 | P15: =N15-O15 -> -37 | Q15: 4 | U15: Marijampolės AVPK | V15: 27
C16: 1 | E16: 1 | G16: 1 | I16: 2
I20: B grupė (group)
B21: Komanda (team) | C21: Rungtynių rezultatai (game score) | M21: Taškai (points) | N21: Įmesta tšk. (points score) | O21: Praleista tšk. (points allowed) | P21: Taškų (points) (+-) | Q21: Vieta (place)
C22: 1 | E22: 2 | G22: 3 | I22: 4
A23: 1 | B23: Kauno apskr. VPK | E23: 21 | F23: 29 | G23: 60 | H23: 34 | I23: 32 | J23: 37 | M23: =E24+G24+I24+K24 -> 4 | N23: =E23+G23+I23+K23 -> 113 | O23: =F23+H23+J23+L23 -> 100 | P23: =N23-O23 -> 13 | Q23: 3
E24: 1 | G24: 2 | I24: 1
A25: 2 | B25: Vilniaus apskr. VPK | C25: 29 | D25: 21 | G25: 43 | H25: 16 | I25: 28 | J25: 29 | M25: =C26+G26+I26+K26 -> 5 | N25: =C25+G25+I25+K25 -> 100 | O25: =D25+H25+J25+L25 -> 66 | P25: =N25-O25 -> 34 | Q25: 2
C26: 2 | G26: 2 | I26: 1
A27: 3 | B27: PD KTV | C27: 34 | D27: 60 | E27: 16 | F27: 43 | I27: 17 | J27: 37 | M27: =C28+E28+I28+K28 -> 3 | N27: =C27+E27+I27+K27 -> 67 | O27: =D27+F27+J27+L27 -> 140 | P27: =N27-O27 -> -73 | Q27: 4
C28: 1 | E28: 1 | I28: 1
A29: 4 | B29: Riga police | C29: 37 | D29: 32 | E29: 29 | F29: 28 | G29: 37 | H29: 17 | M29: =C30+E30+G30+K30 -> 6 | N29: =C29+E29+G29+K29 -> 103 | O29: =D29+F29+H29+L29 -> 77 | P29: =N29-O29 -> 26 | Q29: 1
C30: 2 | E30: 2 | G30: 2
A31: 5 | M31: =C32+E32+G32+I32 -> 0 | N31: =C31+E31+G31+I31 -> 0 | O31: =D31+F31+H31+J31 -> 0 | P31: =N31-O31 -> 0

Sheet Timetable 2025
A1: No. | B1: Time | C1: Court | D1: Group | E1: Team 1 | F1: Team 2 | G1: Referee #1 | H1: Referee #2
A2: 1 | B2: 08.00 | C2: 1 | D2: Warm up
A3: 1 | B3: 08.30 | C3: 2 | D3: Opening ceremony
A4: 2 | B4: 08.45 | C4: 1 | D4: A | E4: ='Groups 2025'!B9 -> Marijampolės apskr. VPK | F4: ='Groups 2025'!B15 -> Alytaus apskr. VPK
A5: 3 | B5: 08.45 | C5: 2 | D5: A | E5: ='Groups 2025'!B7 -> Tauragės apskr. VPK | F5: ='Groups 2025'!B13 -> Lietuvos policijos mokykla
A6: 4 | B6: 09.15 | C6: 1 | D6: A | E6: ='Groups 2025'!B9 -> Marijampolės apskr. VPK | F6: ='Groups 2025'!B11 -> Šiaulių apskr. VPK
A7: 3 | B7: 09.15 | C7: 2 | D7: B | E7: ='Groups 2025'!B23 -> Kauno apskr. VPK | F7: ='Groups 2025'!B29 -> Riga police
A8: 5 | B8: 09.45 | C8: 1 | D8: A | E8: ='Groups 2025'!B13 -> Lietuvos policijos mokykla | F8: ='Groups 2025'!B15 -> Alytaus apskr. VPK
A9: 4 | B9: 09.45 | C9: 2 | D9: B | E9: ='Groups 2025'!B25 -> Vilniaus apskr. VPK | F9: ='Groups 2025'!B27 -> PD KTV
A10: 6 | B10: 10.20 | C10: 1 | D10: A | E10: ='Groups 2025'!B7 -> Tauragės apskr. VPK | F10: ='Groups 2025'!B11 -> Šiaulių apskr. VPK
A11: 7 | B11: 10.20 | C11: 2 | D11: A | E11: ='Groups 2025'!B13 -> Lietuvos policijos mokykla | F11: ='Groups 2025'!B9 -> Marijampolės apskr. VPK
A12: 8 | B12: 10.50 | C12: 1 | D12: A | E12: ='Groups 2025'!B7 -> Tauragės apskr. VPK | F12: ='Groups 2025'!B15 -> Alytaus apskr. VPK
A13: 6 | B13: 10.50 | C13: 2 | D13: B | E13: ='Groups 2025'!B23 -> Kauno apskr. VPK | F13: ='Groups 2025'!B27 -> PD KTV
A14: 9 | B14: 11.15 | C14: 1 | D14: A | E14: ='Groups 2025'!B11 -> Šiaulių apskr. VPK | F14: ='Groups 2025'!B13 -> Lietuvos policijos mokykla
A15: 7 | B15: 11.15 | C15: 2 | D15: B | E15: ='Groups 2025'!B29 -> Riga police | F15: ='Groups 2025'!B25 -> Vilniaus apskr. VPK
A16: 10 | B16: 11.50 | C16: 1 | D16: A | E16: ='Groups 2025'!B7 -> Tauragės apskr. VPK | F16: ='Groups 2025'!B9 -> Marijampolės apskr. VPK
A17: 9 | B17: 11.50 | C17: 2 | D17: B | E17: ='Groups 2025'!B27 -> PD KTV | F17: ='Groups 2025'!B29 -> Riga police
A18: 11 | B18: 12.20 | C18: 1 | D18: A | E18: ='Groups 2025'!B15 -> Alytaus apskr. VPK | F18: ='Groups 2025'!B11 -> Šiaulių apskr. VPK
A19: 10 | B19: 12.20 | C19: 2 | D19: B | E19: ='Groups 2025'!B23 -> Kauno apskr. VPK | F19: ='Groups 2025'!B25 -> Vilniaus apskr. VPK
A20: 12 | B20: 13.00 | C20: 1 | D20: Semi-Final | E20: A1 | F20: B2
A21: 12 | B21: 13.00 | C21: 2 | D21: Semi-Final | E21: B1 | F21: A2
A22: 13 | B22: 13.45 | C22: 2 | D22: 3rd place game | E22: LA1/B2 | F22: LB1/A2
A23: 14 | B23: 14.25 | C23: 2 | D23: 1st place game | E23: WA1/B2 | F23: WB1/A2
A24: 15 | B24: 15.00 | C24: 2 | D24: Closing ceremony
A25: 2 | B25: 08.45 | C25: 2 | D25: B | E25: ='Groups 2025'!B25 -> Vilniaus apskr. VPK | F25: ='Groups 2025'!B31 -> 0 | G25: dnp
A26: 5 | B26: 10.15 | C26: 2 | D26: B | E26: ='Groups 2025'!B29 -> Riga police | F26: ='Groups 2025'!B31 -> 0 | G26: dnp
A27: 8 | B27: 11.45 | C27: 2 | D27: B | E27: ='Groups 2025'!B23 -> Kauno apskr. VPK | F27: ='Groups 2025'!B31 -> 0 | G27: dnp
A28: 11 | B28: 13.15 | C28: 2 | D28: B | E28: ='Groups 2025'!B31 -> 0 | F28: ='Groups 2025'!B27 -> PD KTV | G28: dnp
